BEGIN:VCALENDAR
VERSION:2.0
PRODID:-//jEvents 2.0 for Joomla//EN
CALSCALE:GREGORIAN
METHOD:PUBLISH
BEGIN:VTIMEZONE
TZID:Europe/Berlin
BEGIN:STANDARD
DTSTART:20250103T100000
RDATE:20250330T030000
TZOFFSETFROM:+0200
TZOFFSETTO:+0100
TZNAME:Europe/Berlin CET
END:STANDARD
BEGIN:STANDARD
DTSTART:20251026T020000
RDATE:20260329T030000
TZOFFSETFROM:+0200
TZOFFSETTO:+0100
TZNAME:Europe/Berlin CET
END:STANDARD
BEGIN:STANDARD
DTSTART:20261025T020000
RDATE:20270328T030000
TZOFFSETFROM:+0200
TZOFFSETTO:+0100
TZNAME:Europe/Berlin CET
END:STANDARD
BEGIN:STANDARD
DTSTART:20271031T020000
RDATE:20280326T030000
TZOFFSETFROM:+0200
TZOFFSETTO:+0100
TZNAME:Europe/Berlin CET
END:STANDARD
BEGIN:STANDARD
DTSTART:20281029T020000
RDATE:20290325T030000
TZOFFSETFROM:+0200
TZOFFSETTO:+0100
TZNAME:Europe/Berlin CET
END:STANDARD
BEGIN:STANDARD
DTSTART:20291028T020000
RDATE:20300331T030000
TZOFFSETFROM:+0200
TZOFFSETTO:+0100
TZNAME:Europe/Berlin CET
END:STANDARD
BEGIN:STANDARD
DTSTART:20301027T020000
RDATE:20310330T030000
TZOFFSETFROM:+0200
TZOFFSETTO:+0100
TZNAME:Europe/Berlin CET
END:STANDARD
BEGIN:DAYLIGHT
DTSTART:20250330T030000
RDATE:20251026T020000
TZOFFSETFROM:+0100
TZOFFSETTO:+0200
TZNAME:Europe/Berlin CEST
END:DAYLIGHT
BEGIN:DAYLIGHT
DTSTART:20260329T030000
RDATE:20261025T020000
TZOFFSETFROM:+0100
TZOFFSETTO:+0200
TZNAME:Europe/Berlin CEST
END:DAYLIGHT
BEGIN:DAYLIGHT
DTSTART:20270328T030000
RDATE:20271031T020000
TZOFFSETFROM:+0100
TZOFFSETTO:+0200
TZNAME:Europe/Berlin CEST
END:DAYLIGHT
BEGIN:DAYLIGHT
DTSTART:20280326T030000
RDATE:20281029T020000
TZOFFSETFROM:+0100
TZOFFSETTO:+0200
TZNAME:Europe/Berlin CEST
END:DAYLIGHT
BEGIN:DAYLIGHT
DTSTART:20290325T030000
RDATE:20291028T020000
TZOFFSETFROM:+0100
TZOFFSETTO:+0200
TZNAME:Europe/Berlin CEST
END:DAYLIGHT
BEGIN:DAYLIGHT
DTSTART:20300331T030000
RDATE:20301027T020000
TZOFFSETFROM:+0100
TZOFFSETTO:+0200
TZNAME:Europe/Berlin CEST
END:DAYLIGHT
END:VTIMEZONE
BEGIN:VEVENT
UID:36a58049900c6815067b482e9872996d
CATEGORIES:Geselligkeit
CREATED:20251122T095929
SUMMARY:Film-Matinee der Jugendabteilung
DESCRIPTION:<p><strong>Einladung zur Filmmatinee des SVAOe</strong><br />Die Jugendabte
 ilung des SVAOe lädt alle Vereinsmitglieder, deren Freunde, Verwandte und B
 ekannte zur Neujahrs-Filmmatinee ein.</p><p style="text-align: center;"><br
  />Sie findet am Sonntag, den 04. Januar 2026 im<br />Elbe-Kino, Osdorfer L
 andstrasse 198, statt.<br />Einlass ist ab 10:00 Uhr. Filmbeginn ist gegen 
 11:00 Uhr.</p><p><br />Dieses Jahr wollen wir „Wie durch ein Wunder” zeigen
 :<br /><br />Nach einem Unfall verliert Charlie seinen jüngeren Bruder Sam,
  um den er sich wie ein Vater gekümmert hat. Doch noch auf der Beerdigung s
 ieht er seinen Geist und beginnt, sein Versprechen einzuhalten, jeden Tag m
 it Sam Baseball zu trainieren. So zieht sich Charlie immer mehr zurück und 
 gibt seine Lieblingssportart Segeln auf. Fünf Jahre später lernt er zufälli
 g die lebensfrohe Seglerin Tess kennen. Viel zu spät bemerkt er, in welcher
  Gefahr sie sich befindet. FSK 6.<br /><br />Für Getränke und Knabbereien w
 ird gesorgt.<br /><br />Wir freuen uns darauf Euch alle nach den Feiertagen
  wiederzusehen!<br /><br />Karten reserviert bitte in unserer Geschäftsstel
 le unter der Telefonnummer 040 / 881 14 40 oder per E-Mail unter <span id="
 cloakef9df338ba038a9a50fa9ced269ccd8a">Diese E-Mail-Adresse ist vor Spambot
 s geschützt! Zur Anzeige muss JavaScript eingeschaltet sein!</span><script 
 type='text/javascript'>
				document.getElementById('cloakef9df338ba038a9a5
 0fa9ced269ccd8a').innerHTML = '';
				var prefix = '&#109;a' + 'i&#108;' + 
 '&#116;o';
				var path = 'hr' + 'ef' + '=';
				var addyef9df338ba038a9a50
 fa9ced269ccd8a = '&#105;nf&#111;' + '&#64;';
				addyef9df338ba038a9a50fa9c
 ed269ccd8a = addyef9df338ba038a9a50fa9ced269ccd8a + 'sv&#97;&#111;&#101;' +
  '&#46;' + 'd&#101;';
				var addy_textef9df338ba038a9a50fa9ced269ccd8a = '
 &#105;nf&#111;' + '&#64;' + 'sv&#97;&#111;&#101;' + '&#46;' + 'd&#101;';doc
 ument.getElementById('cloakef9df338ba038a9a50fa9ced269ccd8a').innerHTML += 
 '<a ' + path + '\'' + prefix + ':' + addyef9df338ba038a9a50fa9ced269ccd8a +
  '\'>'+addy_textef9df338ba038a9a50fa9ced269ccd8a+'<\/a>';
		</script></p><p
 > </p>
DTSTAMP:20260419T121659
DTSTART;TZID=Europe/Berlin:20260104T100000
SEQUENCE:0
TRANSP:OPAQUE
END:VEVENT
END:VCALENDAR