BEGIN:VCALENDAR
VERSION:2.0
PRODID:-//jEvents 2.0 for Joomla//EN
CALSCALE:GREGORIAN
METHOD:PUBLISH
BEGIN:VTIMEZONE
TZID:Europe/Berlin
BEGIN:STANDARD
DTSTART:20241027T020000
RDATE:20250330T030000
TZOFFSETFROM:+0200
TZOFFSETTO:+0100
TZNAME:Europe/Berlin CET
END:STANDARD
BEGIN:STANDARD
DTSTART:20251026T020000
RDATE:20260329T030000
TZOFFSETFROM:+0200
TZOFFSETTO:+0100
TZNAME:Europe/Berlin CET
END:STANDARD
BEGIN:STANDARD
DTSTART:20261025T020000
RDATE:20270328T030000
TZOFFSETFROM:+0200
TZOFFSETTO:+0100
TZNAME:Europe/Berlin CET
END:STANDARD
BEGIN:STANDARD
DTSTART:20271031T020000
RDATE:20280326T030000
TZOFFSETFROM:+0200
TZOFFSETTO:+0100
TZNAME:Europe/Berlin CET
END:STANDARD
BEGIN:STANDARD
DTSTART:20281029T020000
RDATE:20290325T030000
TZOFFSETFROM:+0200
TZOFFSETTO:+0100
TZNAME:Europe/Berlin CET
END:STANDARD
BEGIN:STANDARD
DTSTART:20291028T020000
RDATE:20300331T030000
TZOFFSETFROM:+0200
TZOFFSETTO:+0100
TZNAME:Europe/Berlin CET
END:STANDARD
BEGIN:STANDARD
DTSTART:20301027T020000
RDATE:20310330T030000
TZOFFSETFROM:+0200
TZOFFSETTO:+0100
TZNAME:Europe/Berlin CET
END:STANDARD
BEGIN:DAYLIGHT
DTSTART:20240721T080000
RDATE:20241027T020000
TZOFFSETFROM:+0100
TZOFFSETTO:+0200
TZNAME:Europe/Berlin CEST
END:DAYLIGHT
BEGIN:DAYLIGHT
DTSTART:20250330T030000
RDATE:20251026T020000
TZOFFSETFROM:+0100
TZOFFSETTO:+0200
TZNAME:Europe/Berlin CEST
END:DAYLIGHT
BEGIN:DAYLIGHT
DTSTART:20260329T030000
RDATE:20261025T020000
TZOFFSETFROM:+0100
TZOFFSETTO:+0200
TZNAME:Europe/Berlin CEST
END:DAYLIGHT
BEGIN:DAYLIGHT
DTSTART:20270328T030000
RDATE:20271031T020000
TZOFFSETFROM:+0100
TZOFFSETTO:+0200
TZNAME:Europe/Berlin CEST
END:DAYLIGHT
BEGIN:DAYLIGHT
DTSTART:20280326T030000
RDATE:20281029T020000
TZOFFSETFROM:+0100
TZOFFSETTO:+0200
TZNAME:Europe/Berlin CEST
END:DAYLIGHT
BEGIN:DAYLIGHT
DTSTART:20290325T030000
RDATE:20291028T020000
TZOFFSETFROM:+0100
TZOFFSETTO:+0200
TZNAME:Europe/Berlin CEST
END:DAYLIGHT
BEGIN:DAYLIGHT
DTSTART:20300331T030000
RDATE:20301027T020000
TZOFFSETFROM:+0100
TZOFFSETTO:+0200
TZNAME:Europe/Berlin CEST
END:DAYLIGHT
END:VTIMEZONE
BEGIN:VEVENT
UID:70b781c062b72129024904dea5a41b89
CATEGORIES:sonstige Termine
CREATED:20250714T202652
SUMMARY:Opti Taufe 2
LOCATION:Alster
DESCRIPTION:<p>Vorstellung der Malizia-Optis.</p><p>Ab 17 Uhr wird Birte Herrmann die M
 alizia "My Ocean Challenge" vorstellen und Jens Holscher wird den Bezug zur
  Segelausbildung der Kinder im SVAOe erläutern. Der NDR, die Yacht und auch
  das Abendblatt werden berichten. Weitere Informationen gibt es <a href="ht
 tp://www.svaoe.de/images/pdf/Diverses/A_RACE_WE_MUST_WIN.pdf" target="_blan
 k" rel="noopener noreferrer">hier</a>.</p><p>Nach dem Segeln werden wir noc
 h einen Opti taufen, den wir der Radiologischen Allianz zu verdanken haben.
  Die Radiologischen Allianz hat uns 2.500 EUR gespendet und wir werden den 
 Opti R•A•U•M taufen - die Abkürzung für <strong>R</strong>adiologische <str
 ong>A</strong>llianz <strong>U</strong>nterstützt <strong>M</strong>ich. De
 r SVAOe wird sich mit einem gerahmten Miniatur-Optisegel, auf dem unsere Op
 ti-Kinder unterschrieben haben, für die großzügige Spende bedanken.</p><p>W
 eitere Infos gibt es <a href="2-uncategorised/1603-svaoe-optis-auf-der-alst
 er" target="_blank" rel="noopener noreferrer">hier</a>.</p>
X-ALT-DESC;FMTTYPE=text/html:<p>Vorstellung der Malizia-Optis.</p><p>Ab 17 Uhr wird Birte Herrmann die M
 alizia "My Ocean Challenge" vorstellen und Jens Holscher wird den Bezug zur
  Segelausbildung der Kinder im SVAOe erläutern. Der NDR, die Yacht und auch
  das Abendblatt werden berichten. Weitere Informationen gibt es <a href="ht
 tp://www.svaoe.de/images/pdf/Diverses/A_RACE_WE_MUST_WIN.pdf" target="_blan
 k" rel="noopener noreferrer">hier</a>.</p><p>Nach dem Segeln werden wir noc
 h einen Opti taufen, den wir der Radiologischen Allianz zu verdanken haben.
  Die Radiologischen Allianz hat uns 2.500 EUR gespendet und wir werden den 
 Opti R•A•U•M taufen - die Abkürzung für <strong>R</strong>adiologische <str
 ong>A</strong>llianz <strong>U</strong>nterstützt <strong>M</strong>ich. De
 r SVAOe wird sich mit einem gerahmten Miniatur-Optisegel, auf dem unsere Op
 ti-Kinder unterschrieben haben, für die großzügige Spende bedanken.</p><p>W
 eitere Infos gibt es <a href="http://svaoe-hamburg.de/2-uncategorised/1603-
 svaoe-optis-auf-der-alster" target="_blank" rel="noopener noreferrer">hier<
 /a>.</p>
DTSTAMP:20260421T020219
DTSTART;TZID=Europe/Berlin:20250722T080000
DTEND;TZID=Europe/Berlin:20250722T210000
SEQUENCE:0
TRANSP:OPAQUE
END:VEVENT
END:VCALENDAR