BEGIN:VCALENDAR
VERSION:2.0
PRODID:-//jEvents 2.0 for Joomla//EN
CALSCALE:GREGORIAN
METHOD:PUBLISH
BEGIN:VTIMEZONE
TZID:Europe/Berlin
BEGIN:STANDARD
DTSTART:20241027T020000
RDATE:20250330T030000
TZOFFSETFROM:+0200
TZOFFSETTO:+0100
TZNAME:Europe/Berlin CET
END:STANDARD
BEGIN:STANDARD
DTSTART:20251026T020000
RDATE:20260329T030000
TZOFFSETFROM:+0200
TZOFFSETTO:+0100
TZNAME:Europe/Berlin CET
END:STANDARD
BEGIN:STANDARD
DTSTART:20261025T020000
RDATE:20270328T030000
TZOFFSETFROM:+0200
TZOFFSETTO:+0100
TZNAME:Europe/Berlin CET
END:STANDARD
BEGIN:STANDARD
DTSTART:20271031T020000
RDATE:20280326T030000
TZOFFSETFROM:+0200
TZOFFSETTO:+0100
TZNAME:Europe/Berlin CET
END:STANDARD
BEGIN:STANDARD
DTSTART:20281029T020000
RDATE:20290325T030000
TZOFFSETFROM:+0200
TZOFFSETTO:+0100
TZNAME:Europe/Berlin CET
END:STANDARD
BEGIN:STANDARD
DTSTART:20291028T020000
RDATE:20300331T030000
TZOFFSETFROM:+0200
TZOFFSETTO:+0100
TZNAME:Europe/Berlin CET
END:STANDARD
BEGIN:STANDARD
DTSTART:20301027T020000
RDATE:20310330T030000
TZOFFSETFROM:+0200
TZOFFSETTO:+0100
TZNAME:Europe/Berlin CET
END:STANDARD
BEGIN:DAYLIGHT
DTSTART:20240720T170000
RDATE:20241027T020000
TZOFFSETFROM:+0100
TZOFFSETTO:+0200
TZNAME:Europe/Berlin CEST
END:DAYLIGHT
BEGIN:DAYLIGHT
DTSTART:20250330T030000
RDATE:20251026T020000
TZOFFSETFROM:+0100
TZOFFSETTO:+0200
TZNAME:Europe/Berlin CEST
END:DAYLIGHT
BEGIN:DAYLIGHT
DTSTART:20260329T030000
RDATE:20261025T020000
TZOFFSETFROM:+0100
TZOFFSETTO:+0200
TZNAME:Europe/Berlin CEST
END:DAYLIGHT
BEGIN:DAYLIGHT
DTSTART:20270328T030000
RDATE:20271031T020000
TZOFFSETFROM:+0100
TZOFFSETTO:+0200
TZNAME:Europe/Berlin CEST
END:DAYLIGHT
BEGIN:DAYLIGHT
DTSTART:20280326T030000
RDATE:20281029T020000
TZOFFSETFROM:+0100
TZOFFSETTO:+0200
TZNAME:Europe/Berlin CEST
END:DAYLIGHT
BEGIN:DAYLIGHT
DTSTART:20290325T030000
RDATE:20291028T020000
TZOFFSETFROM:+0100
TZOFFSETTO:+0200
TZNAME:Europe/Berlin CEST
END:DAYLIGHT
BEGIN:DAYLIGHT
DTSTART:20300331T030000
RDATE:20301027T020000
TZOFFSETFROM:+0100
TZOFFSETTO:+0200
TZNAME:Europe/Berlin CEST
END:DAYLIGHT
END:VTIMEZONE
BEGIN:VEVENT
UID:a6fef5d81b5261be4ef9912a7745a126
CATEGORIES:sonstige Termine
CREATED:20250714T202435
SUMMARY:Opti Taufe 1
LOCATION:Alster
DESCRIPTION:<p>Taufe der durch Spenden gekauften 5 Optis auf unserem Gelände an der Als
 ter</p><p>Die Kinder haben sich für die folgenden Namen entschieden:</p><ul
 ><li>Windmaster</li><li>Blitz</li><li>Opti Dopti</li><li>Schrecken der Meer
 e</li><li>Alsterexplorer</li></ul><p>Weitre Infos gibt es <a href="2-uncate
 gorised/1603-svaoe-optis-auf-der-alster" target="_blank" rel="noopener nore
 ferrer">hier.</a></p>
X-ALT-DESC;FMTTYPE=text/html:<p>Taufe der durch Spenden gekauften 5 Optis auf unserem Gelände an der Als
 ter</p><p>Die Kinder haben sich für die folgenden Namen entschieden:</p><ul
 ><li>Windmaster</li><li>Blitz</li><li>Opti Dopti</li><li>Schrecken der Meer
 e</li><li>Alsterexplorer</li></ul><p>Weitre Infos gibt es <a href="http://s
 vaoe-hamburg.de/2-uncategorised/1603-svaoe-optis-auf-der-alster" target="_b
 lank" rel="noopener noreferrer">hier.</a></p>
DTSTAMP:20260421T020148
DTSTART;TZID=Europe/Berlin:20250721T170000
SEQUENCE:0
TRANSP:OPAQUE
END:VEVENT
END:VCALENDAR